BEGIN:VCALENDAR
VERSION:2.0
PRODID:-//Long Island Seed Libraries - ECPv6.15.20//NONSGML v1.0//EN
CALSCALE:GREGORIAN
METHOD:PUBLISH
X-WR-CALNAME:Long Island Seed Libraries
X-ORIGINAL-URL:https://longislandseedlibraries.org
X-WR-CALDESC:Events for Long Island Seed Libraries
REFRESH-INTERVAL;VALUE=DURATION:PT1H
X-Robots-Tag:noindex
X-PUBLISHED-TTL:PT1H
BEGIN:VTIMEZONE
TZID:America/New_York
BEGIN:DAYLIGHT
TZOFFSETFROM:-0500
TZOFFSETTO:-0400
TZNAME:EDT
DTSTART:20230312T070000
END:DAYLIGHT
BEGIN:STANDARD
TZOFFSETFROM:-0400
TZOFFSETTO:-0500
TZNAME:EST
DTSTART:20231105T060000
END:STANDARD
BEGIN:DAYLIGHT
TZOFFSETFROM:-0500
TZOFFSETTO:-0400
TZNAME:EDT
DTSTART:20240310T070000
END:DAYLIGHT
BEGIN:STANDARD
TZOFFSETFROM:-0400
TZOFFSETTO:-0500
TZNAME:EST
DTSTART:20241103T060000
END:STANDARD
BEGIN:DAYLIGHT
TZOFFSETFROM:-0500
TZOFFSETTO:-0400
TZNAME:EDT
DTSTART:20250309T070000
END:DAYLIGHT
BEGIN:STANDARD
TZOFFSETFROM:-0400
TZOFFSETTO:-0500
TZNAME:EST
DTSTART:20251102T060000
END:STANDARD
BEGIN:DAYLIGHT
TZOFFSETFROM:-0500
TZOFFSETTO:-0400
TZNAME:EDT
DTSTART:20260308T070000
END:DAYLIGHT
BEGIN:STANDARD
TZOFFSETFROM:-0400
TZOFFSETTO:-0500
TZNAME:EST
DTSTART:20261101T060000
END:STANDARD
BEGIN:DAYLIGHT
TZOFFSETFROM:-0500
TZOFFSETTO:-0400
TZNAME:EDT
DTSTART:20270314T070000
END:DAYLIGHT
BEGIN:STANDARD
TZOFFSETFROM:-0400
TZOFFSETTO:-0500
TZNAME:EST
DTSTART:20271107T060000
END:STANDARD
END:VTIMEZONE
BEGIN:VTIMEZONE
TZID:UTC
BEGIN:STANDARD
TZOFFSETFROM:+0000
TZOFFSETTO:+0000
TZNAME:UTC
DTSTART:20230101T000000
END:STANDARD
END:VTIMEZONE
BEGIN:VEVENT
DTSTART;TZID=America/New_York:20260318T180000
DTEND;TZID=America/New_York:20260318T203000
DTSTAMP:20260424T120829
CREATED:20240208T165031Z
LAST-MODIFIED:20260206T202112Z
UID:205-1773856800-1773865800@longislandseedlibraries.org
SUMMARY:Annual Seed Exchange & Seed Library Celebration
DESCRIPTION:In celebration of our Seed Library\, join us for our annual seed exchange with special guests from Xerces Society\, Rewild Long Island and Cornell Cooperative Extension of Suffolk. \nShare and swap seeds from your favorite plants. Please label the seeds you would like to share. Patrons do not need to bring seeds to attend. \nClick here to view the event flyer: https://longislandseedlibraries.org/wp-content/uploads/2026/02/2026-Annual-Seed-Exchange-2.pdf  
URL:https://longislandseedlibraries.org/event/seed-showcase-and-exchange/
LOCATION:Middle Country Public Library\, 101 Eastwood Blvd.\, Centereach\, NY\, 11720\, United States
ATTACH;FMTTYPE=image/png:https://longislandseedlibraries.org/wp-content/uploads/2024/02/Untitled-design-7.png
ORGANIZER;CN="Middle Country Public Library":MAILTO:gagliardiamber@mcplibrary.org
END:VEVENT
BEGIN:VEVENT
DTSTART;TZID=UTC:20240911T094500
DTEND;TZID=UTC:20240911T130000
DTSTAMP:20260424T120829
CREATED:20240817T183027Z
LAST-MODIFIED:20240817T183027Z
UID:239-1726047900-1726059600@longislandseedlibraries.org
SUMMARY:Seed Libraries Center Moriches Garden Tour  & Roundtable
DESCRIPTION:
URL:https://longislandseedlibraries.org/event/seed-libraries-center-moriches-garden-tour-roundtable/
LOCATION:Center Moriches Free Public Library\, 235 Montauk Hwy\, Center Moriches\, NY\, 11934\, United States
ATTACH;FMTTYPE=image/png:https://longislandseedlibraries.org/wp-content/uploads/2024/08/Fall-2024-Center-Moriches-.png
END:VEVENT
BEGIN:VEVENT
DTSTART;TZID=America/New_York:20240509T080000
DTEND;TZID=America/New_York:20240509T160000
DTSTAMP:20260424T120829
CREATED:20240208T165343Z
LAST-MODIFIED:20240208T165343Z
UID:209-1715241600-1715270400@longislandseedlibraries.org
SUMMARY:Long Island Library Conference
DESCRIPTION:Amber and Regina will be speaking at the Long Island Library Conference on May 9\, 2024.
URL:https://longislandseedlibraries.org/event/long-island-library-conference/
LOCATION:NY
ATTACH;FMTTYPE=image/png:https://longislandseedlibraries.org/wp-content/uploads/2024/02/Long-Island-Library-Conference-.png
END:VEVENT
BEGIN:VEVENT
DTSTART;TZID=UTC:20240429T100000
DTEND;TZID=UTC:20240429T120000
DTSTAMP:20260424T120829
CREATED:20240308T215800Z
LAST-MODIFIED:20240312T225634Z
UID:221-1714384800-1714392000@longislandseedlibraries.org
SUMMARY:Seed Librarians Meetup
DESCRIPTION:
URL:https://longislandseedlibraries.org/event/seed-librarians-meetup/
LOCATION:Quogue Wildlife Refuge\, 3 Old Country Road\, Quogue\, NY\, NY\, 11959\, United States
ATTACH;FMTTYPE=image/png:https://longislandseedlibraries.org/wp-content/uploads/2024/03/Seed-Librarians-Meetup-Roundtable-1.png
END:VEVENT
END:VCALENDAR