BEGIN:VCALENDAR
VERSION:2.0
PRODID:-//Long Island Seed Libraries - ECPv6.15.20//NONSGML v1.0//EN
CALSCALE:GREGORIAN
METHOD:PUBLISH
X-WR-CALNAME:Long Island Seed Libraries
X-ORIGINAL-URL:https://longislandseedlibraries.org
X-WR-CALDESC:Events for Long Island Seed Libraries
REFRESH-INTERVAL;VALUE=DURATION:PT1H
X-Robots-Tag:noindex
X-PUBLISHED-TTL:PT1H
BEGIN:VTIMEZONE
TZID:America/New_York
BEGIN:DAYLIGHT
TZOFFSETFROM:-0500
TZOFFSETTO:-0400
TZNAME:EDT
DTSTART:20250309T070000
END:DAYLIGHT
BEGIN:STANDARD
TZOFFSETFROM:-0400
TZOFFSETTO:-0500
TZNAME:EST
DTSTART:20251102T060000
END:STANDARD
BEGIN:DAYLIGHT
TZOFFSETFROM:-0500
TZOFFSETTO:-0400
TZNAME:EDT
DTSTART:20260308T070000
END:DAYLIGHT
BEGIN:STANDARD
TZOFFSETFROM:-0400
TZOFFSETTO:-0500
TZNAME:EST
DTSTART:20261101T060000
END:STANDARD
BEGIN:DAYLIGHT
TZOFFSETFROM:-0500
TZOFFSETTO:-0400
TZNAME:EDT
DTSTART:20270314T070000
END:DAYLIGHT
BEGIN:STANDARD
TZOFFSETFROM:-0400
TZOFFSETTO:-0500
TZNAME:EST
DTSTART:20271107T060000
END:STANDARD
END:VTIMEZONE
BEGIN:VEVENT
DTSTART;TZID=America/New_York:20260318T180000
DTEND;TZID=America/New_York:20260318T203000
DTSTAMP:20260425T154507
CREATED:20240208T165031Z
LAST-MODIFIED:20260206T202112Z
UID:205-1773856800-1773865800@longislandseedlibraries.org
SUMMARY:Annual Seed Exchange & Seed Library Celebration
DESCRIPTION:In celebration of our Seed Library\, join us for our annual seed exchange with special guests from Xerces Society\, Rewild Long Island and Cornell Cooperative Extension of Suffolk. \nShare and swap seeds from your favorite plants. Please label the seeds you would like to share. Patrons do not need to bring seeds to attend. \nClick here to view the event flyer: https://longislandseedlibraries.org/wp-content/uploads/2026/02/2026-Annual-Seed-Exchange-2.pdf  
URL:https://longislandseedlibraries.org/event/seed-showcase-and-exchange/
LOCATION:Middle Country Public Library\, 101 Eastwood Blvd.\, Centereach\, NY\, 11720\, United States
ATTACH;FMTTYPE=image/png:https://longislandseedlibraries.org/wp-content/uploads/2024/02/Untitled-design-7.png
ORGANIZER;CN="Middle Country Public Library":MAILTO:gagliardiamber@mcplibrary.org
END:VEVENT
END:VCALENDAR